BEGIN:VCALENDAR
VERSION:2.0
PRODID:-//Nurses Association of Jamaica - ECPv6.15.15//NONSGML v1.0//EN
CALSCALE:GREGORIAN
METHOD:PUBLISH
X-WR-CALNAME:Nurses Association of Jamaica
X-ORIGINAL-URL:https://najtrevennion.org
X-WR-CALDESC:Events for Nurses Association of Jamaica
REFRESH-INTERVAL;VALUE=DURATION:PT1H
X-Robots-Tag:noindex
X-PUBLISHED-TTL:PT1H
BEGIN:VTIMEZONE
TZID:America/Jamaica
BEGIN:STANDARD
TZOFFSETFROM:-0500
TZOFFSETTO:-0500
TZNAME:EST
DTSTART:20220101T000000
END:STANDARD
END:VTIMEZONE
BEGIN:VEVENT
DTSTART;VALUE=DATE:20241026
DTEND;VALUE=DATE:20241027
DTSTAMP:20260425T121554
CREATED:20231207T144829Z
LAST-MODIFIED:20231207T144829Z
UID:2065-1729900800-1729987199@najtrevennion.org
SUMMARY:CNO Day
DESCRIPTION:
URL:https://najtrevennion.org/event/cno-day/
ATTACH;FMTTYPE=image/jpeg:https://najtrevennion.org/wp-content/uploads/2023/12/events-default.jpg
END:VEVENT
BEGIN:VEVENT
DTSTART;VALUE=DATE:20241010
DTEND;VALUE=DATE:20241014
DTSTAMP:20260425T121554
CREATED:20231207T144747Z
LAST-MODIFIED:20231207T144747Z
UID:2062-1728518400-1728863999@najtrevennion.org
SUMMARY:Annual General Meeting & ICM
DESCRIPTION:
URL:https://najtrevennion.org/event/annual-general-meeting-icm/
LOCATION:Moon Palace\, Jamaica
ATTACH;FMTTYPE=image/jpeg:https://najtrevennion.org/wp-content/uploads/2023/12/events-default.jpg
END:VEVENT
BEGIN:VEVENT
DTSTART;VALUE=DATE:20240714
DTEND;VALUE=DATE:20240721
DTSTAMP:20260425T121554
CREATED:20231207T144640Z
LAST-MODIFIED:20231207T144640Z
UID:2060-1720915200-1721519999@najtrevennion.org
SUMMARY:Nurses Week
DESCRIPTION:
URL:https://najtrevennion.org/event/nurses-week/
ATTACH;FMTTYPE=image/jpeg:https://najtrevennion.org/wp-content/uploads/2023/12/events-default.jpg
END:VEVENT
BEGIN:VEVENT
DTSTART;TZID=America/Jamaica:20240706T080000
DTEND;TZID=America/Jamaica:20240706T170000
DTSTAMP:20260425T121554
CREATED:20231207T144531Z
LAST-MODIFIED:20231207T144531Z
UID:2058-1720252800-1720285200@najtrevennion.org
SUMMARY:3rd Combined Quarterly General &  Island Council Meetings
DESCRIPTION:
URL:https://najtrevennion.org/event/3rd-combined-quarterly-general-island-council-meetings/
ATTACH;FMTTYPE=image/jpeg:https://najtrevennion.org/wp-content/uploads/2023/12/events-default.jpg
END:VEVENT
BEGIN:VEVENT
DTSTART;TZID=America/Jamaica:20240217T080000
DTEND;TZID=America/Jamaica:20240217T170000
DTSTAMP:20260425T121554
CREATED:20231207T141925Z
LAST-MODIFIED:20231207T141925Z
UID:2056-1708156800-1708189200@najtrevennion.org
SUMMARY:LASCO/NAJ NOY 2023 PROJECT
DESCRIPTION:Violence Against Children Road March & Expo
URL:https://najtrevennion.org/event/lasco-naj-noy-2023-project/
ATTACH;FMTTYPE=image/jpeg:https://najtrevennion.org/wp-content/uploads/2023/12/events-default.jpg
END:VEVENT
BEGIN:VEVENT
DTSTART;TZID=America/Jamaica:20240106T080000
DTEND;TZID=America/Jamaica:20240106T170000
DTSTAMP:20260425T121554
CREATED:20231207T141823Z
LAST-MODIFIED:20231207T141823Z
UID:2054-1704528000-1704560400@najtrevennion.org
SUMMARY:2nd Island Council Meeting
DESCRIPTION:
URL:https://najtrevennion.org/event/2nd-island-council-meeting/
LOCATION:72 Arnold Road\, Kingston 5\, Jamaica
ATTACH;FMTTYPE=image/jpeg:https://najtrevennion.org/wp-content/uploads/2023/12/events-default.jpg
END:VEVENT
BEGIN:VEVENT
DTSTART;TZID=America/Jamaica:20230621T100000
DTEND;TZID=America/Jamaica:20230621T170000
DTSTAMP:20260425T121554
CREATED:20230626T214643Z
LAST-MODIFIED:20230727T080657Z
UID:834-1687341600-1687366800@najtrevennion.org
SUMMARY:Mental Health Day
DESCRIPTION:The NAJ South East Region Membership Mental Health Day is June 21st\, 2023. At Ronnie’s\, Wicky Wacky Beach\, Bull Bay. Come out in your numbers for a day filled with Fun and Surprises.
URL:https://najtrevennion.org/event/mental-health-day/
LOCATION:Ronnie’s\, Wicky Wacky Beach\, Bull Bay\, Jamaica
ATTACH;FMTTYPE=image/jpeg:https://najtrevennion.org/wp-content/uploads/2023/06/NAJ-latest-event.jpg
END:VEVENT
END:VCALENDAR